BEGIN:VCALENDAR
VERSION:2.0
PRODID:-//Sabre//Sabre VObject 4.5.1//EN
CALSCALE:GREGORIAN
BEGIN:VEVENT
UID:sabre-vobject-26e1176b-2acd-4254-9e1c-703dec1d32ea
DTSTAMP:20260422T133019Z
SUMMARY:Journée mondiale des oiseaux migrateurs
DESCRIPTION:\n\nLien de lʼévénement: https://www.ville.dorval.qc.ca/fr/e
 venements/environnement/journee-mondiale-des-oiseaux-migrateurs-1
LOCATION:Dorval
DTSTART;TZID=America/New_York:20260509T080000
DTEND;TZID=America/New_York:20260509T080000
END:VEVENT
END:VCALENDAR
