BEGIN:VCALENDAR
VERSION:2.0
PRODID:-//Sabre//Sabre VObject 4.5.1//EN
CALSCALE:GREGORIAN
BEGIN:VEVENT
UID:sabre-vobject-845796ae-9c6e-4c13-8e1a-6de4ca08d953
DTSTAMP:20260422T193854Z
SUMMARY:Dorval Community Flea Market (From 9 a.m. to 2 p.m.)
DESCRIPTION:\n\nLien de lʼévénement: https://www.ville.dorval.qc.ca/en/e
 vents/environment/dorval-community-flea-market
LOCATION:In the Sarto-Desnoyers Community Centre parking lot
DTSTART;TZID=America/New_York:20260523T090000
DTEND;TZID=America/New_York:20260523T140000
END:VEVENT
END:VCALENDAR
