BEGIN:VCALENDAR
VERSION:2.0
PRODID:-//Sabre//Sabre VObject 4.5.1//EN
CALSCALE:GREGORIAN
BEGIN:VEVENT
UID:sabre-vobject-f1ed8c3d-5ff2-4c14-a741-ab999da73db4
DTSTAMP:20260422T204425Z
SUMMARY:Marché aux puces communautaire de Dorval (9 h à 14 h)
DESCRIPTION:\n\nLien de lʼévénement: https://www.ville.dorval.qc.ca/fr/e
 venements/environnement/marche-aux-puces-communautaire-de-dorval-1
LOCATION:Dans le stationnement du centre communautaire Sarto-Desnoyers
DTSTART;TZID=America/New_York:20260523T090000
DTEND;TZID=America/New_York:20260523T140000
END:VEVENT
END:VCALENDAR
