BEGIN:VCALENDAR
VERSION:2.0
PRODID:-//Sabre//Sabre VObject 4.5.1//EN
CALSCALE:GREGORIAN
BEGIN:VEVENT
UID:sabre-vobject-45a70751-6148-4369-b00b-00b71dc319e5
DTSTAMP:20260422T144739Z
SUMMARY:Journée de l’environnement et du jardinage (9 h à 13 h)
DESCRIPTION:\n\nLien de lʼévénement: https://www.ville.dorval.qc.ca/fr/e
 venements/environnement/journee-de-lenvironnement-et-du-jardinage-1
LOCATION:Dans le stationnement et à l’intérieur du centre communautaire
  Sarto-Desnoyers
DTSTART;TZID=America/New_York:20260516T090000
DTEND;TZID=America/New_York:20260516T130000
END:VEVENT
END:VCALENDAR
