BEGIN:VCALENDAR
VERSION:2.0
PRODID:-//Sabre//Sabre VObject 4.5.1//EN
CALSCALE:GREGORIAN
BEGIN:VEVENT
UID:sabre-vobject-70092f68-6c32-48f4-8e1f-dfe3e65017bd
DTSTAMP:20260422T193338Z
SUMMARY:First Citizens’ Civic Reception (Noon)
DESCRIPTION:\n\nLien de lʼévénement: https://www.ville.dorval.qc.ca/en/e
 vents/sports-and-leisure/first-citizens-civic-reception-1
LOCATION:At the Sarto-Desnoyers Community Centre
DTSTART;TZID=America/New_York:20260503T120000
DTEND;TZID=America/New_York:20260503T120000
END:VEVENT
END:VCALENDAR
