BEGIN:VCALENDAR
VERSION:2.0
PRODID:-//Sabre//Sabre VObject 4.5.1//EN
CALSCALE:GREGORIAN
BEGIN:VEVENT
UID:sabre-vobject-cf98aa60-fd52-4a5d-a35b-a9a88961a568
DTSTAMP:20260422T205527Z
SUMMARY:Environmental Drop-off
DESCRIPTION:The City of Dorval will be organizing an environmental drop-off
  in order to collect household hazardous waste (HHW)\, information and com
 munications technologies (ICT) waste\, and polystyrene articles.\n\nLien d
 e lʼévénement: https://www.ville.dorval.qc.ca/en/events/environment/env
 ironmental-drop-off-2026-09-05
LOCATION:Parking lot of Ballantyne Park
DTSTART;TZID=America/New_York:20260905T090000
DTEND;TZID=America/New_York:20260905T170000
END:VEVENT
END:VCALENDAR
