BEGIN:VCALENDAR
VERSION:2.0
PRODID:-//Sabre//Sabre VObject 4.5.1//EN
CALSCALE:GREGORIAN
BEGIN:VEVENT
UID:sabre-vobject-aa4d4902-c026-4946-81b8-9aa3b942f860
DTSTAMP:20260422T144144Z
SUMMARY:Collecte environnementale
DESCRIPTION:La Cité de Dorval organise une collecte environnementale afin 
 de ramasser les résidus domestiques dangereux (RDD)\, les résidus de tec
 hnologies de l’information et des communications (TIC) et les articles e
 n polystyrène.\n\nLien de lʼévénement: https://www.ville.dorval.qc.ca/
 fr/evenements/environnement/collecte-environnementale-2026-09-05
LOCATION:Stationnement du parc Ballantyne
DTSTART;TZID=America/New_York:20260905T090000
DTEND;TZID=America/New_York:20260905T170000
END:VEVENT
END:VCALENDAR
