BEGIN:VCALENDAR
VERSION:2.0
PRODID:-//Sabre//Sabre VObject 4.5.1//EN
CALSCALE:GREGORIAN
BEGIN:VEVENT
UID:sabre-vobject-37239feb-82f3-45ff-86d2-057f16fea246
DTSTAMP:20260422T233926Z
SUMMARY:Community Treasure Hunt (Starting at 9 a.m.)
DESCRIPTION:It's time for the fall version of Dorval’s popular Community 
 Treasure Hunt!\n\nLien de lʼévénement: https://www.ville.dorval.qc.ca/e
 n/events/environment/community-treasure-hunt-2026-10-03
LOCATION:In the streets of Dorval
DTSTART;TZID=America/New_York:20261003T090000
DTEND;TZID=America/New_York:20261003T235500
END:VEVENT
END:VCALENDAR
