BEGIN:VCALENDAR
VERSION:2.0
PRODID:-//Sabre//Sabre VObject 4.5.1//EN
CALSCALE:GREGORIAN
BEGIN:VEVENT
UID:sabre-vobject-593a2102-19e9-4506-9e1c-3c5afe44ccbd
DTSTAMP:20260422T144459Z
SUMMARY:Chasse aux trésors communautaire (À compter de 9 h)
DESCRIPTION:Place à la version automnale de la populaire chasse aux tréso
 rs communautaire de Dorval!\n\nLien de lʼévénement: https://www.ville.d
 orval.qc.ca/fr/evenements/environnement/chasse-aux-tresors-communautaire-2
 026-10-03
LOCATION:Dans les rues de la Cité
DTSTART;TZID=America/New_York:20261003T090000
DTEND;TZID=America/New_York:20261003T235500
END:VEVENT
END:VCALENDAR
