BEGIN:VCALENDAR
VERSION:2.0
PRODID:-//Sabre//Sabre VObject 4.5.1//EN
CALSCALE:GREGORIAN
BEGIN:VEVENT
UID:sabre-vobject-cb268613-03f7-40a2-862f-2608dfb410e6
DTSTAMP:20260422T170436Z
SUMMARY:Séance du conseil de juin
DESCRIPTION:Dans la chapelle de la résidence « Quatre Vents » (12\, aven
 ue du Dahlia\, à Dorval) et en webdiffusion en direct.\n\nLien de lʼév
 énement: https://www.ville.dorval.qc.ca/fr/evenements/conseil-municipal/s
 eance-du-conseil-de-juin
LOCATION:Dans la chapelle de la résidence « Quatre Vents » (12\, avenue 
 du Dahlia\, à Dorval)
DTSTART;TZID=America/New_York:20260615T190000
DTEND;TZID=America/New_York:20260615T190000
END:VEVENT
END:VCALENDAR
