BEGIN:VCALENDAR
VERSION:2.0
PRODID:-//Sabre//Sabre VObject 4.5.1//EN
CALSCALE:GREGORIAN
BEGIN:VEVENT
UID:sabre-vobject-a39b7510-5aba-482b-9a6e-7b3bf92a33bd
DTSTAMP:20260422T171243Z
SUMMARY:Séance du conseil d'août
DESCRIPTION:Dans la chapelle de la résidence « Quatre Vents » (12\, aven
 ue du Dahlia\, à Dorval) et en webdiffusion en direct.\n\nLien de lʼév
 énement: https://www.ville.dorval.qc.ca/fr/evenements/conseil-municipal/s
 eance-du-conseil-daout
LOCATION:Dans la chapelle de la résidence « Quatre Vents » (12\, avenue 
 du Dahlia\, à Dorval)
DTSTART;TZID=America/New_York:20260824T190000
DTEND;TZID=America/New_York:20260824T190000
END:VEVENT
END:VCALENDAR
