BEGIN:VCALENDAR
VERSION:2.0
PRODID:-//Sabre//Sabre VObject 4.5.1//EN
CALSCALE:GREGORIAN
BEGIN:VEVENT
UID:sabre-vobject-e756870c-3571-4d32-bb99-75ecb6a62a2d
DTSTAMP:20260422T221047Z
SUMMARY:September Council Meeting
DESCRIPTION:In the chapel of the "Quatre Vents" residence (12 du Dahlia Ave
 nue\, in Dorval) and webcast live.\n\nLien de lʼévénement: https://www.
 ville.dorval.qc.ca/en/events/municipal-council/september-council-meeting
LOCATION:In the chapel of the "Quatre Vents" residence (12 du Dahlia Avenue
 \, in Dorval)
DTSTART;TZID=America/New_York:20260921T190000
DTEND;TZID=America/New_York:20260921T190000
END:VEVENT
END:VCALENDAR
