BEGIN:VCALENDAR
VERSION:2.0
PRODID:-//Sabre//Sabre VObject 4.5.1//EN
CALSCALE:GREGORIAN
BEGIN:VEVENT
UID:sabre-vobject-2998d6d1-8379-4230-890c-da54c18932ba
DTSTAMP:20260422T155205Z
SUMMARY:Séance du conseil de septembre
DESCRIPTION:Dans la chapelle de la résidence « Quatre Vents » (12\, aven
 ue du Dahlia\, à Dorval) et en webdiffusion en direct.\n\nLien de lʼév
 énement: https://www.ville.dorval.qc.ca/fr/evenements/conseil-municipal/s
 eance-du-conseil-de-septembre
LOCATION:Dans la chapelle de la résidence « Quatre Vents » (12\, avenue 
 du Dahlia\, à Dorval)
DTSTART;TZID=America/New_York:20260921T190000
DTEND;TZID=America/New_York:20260921T190000
END:VEVENT
END:VCALENDAR
