BEGIN:VCALENDAR
VERSION:2.0
PRODID:-//Sabre//Sabre VObject 4.5.1//EN
CALSCALE:GREGORIAN
BEGIN:VEVENT
UID:sabre-vobject-1bf35698-859c-483e-b084-b71c062c842e
DTSTAMP:20260422T155250Z
SUMMARY:Comme un poisson dans l’eau!
DESCRIPTION:Cette exposition entièrement produite par le Musée du Fjord&n
 bsp\;invite chaque visiteur dans un écrin marin divertissant.\n\nLien de 
 lʼévénement: https://www.ville.dorval.qc.ca/fr/evenements/arts-et-cultu
 re/comme-un-poisson-dans-leau
LOCATION:Au Musée d’histoire et du patrimoine de Dorval
DTSTART;TZID=America/New_York:20260514T134224
DTEND;TZID=America/New_York:20261018T134231
END:VEVENT
END:VCALENDAR
