BEGIN:VCALENDAR
VERSION:2.0
PRODID:-//Sabre//Sabre VObject 4.5.1//EN
CALSCALE:GREGORIAN
BEGIN:VEVENT
UID:sabre-vobject-2a34e563-882c-4e3d-aef4-5739bfb66c2b
DTSTAMP:20260422T233211Z
SUMMARY:Operation Feathered Friends: Your Guide to Be a Bird Hero at Home
DESCRIPTION:Free exhibition presented in cooperation with the Dorval Bird C
 ommittee\n\nLien de lʼévénement: https://www.ville.dorval.qc.ca/en/even
 ts/arts-and-culture/operation-feathered-friends-your-guide-to-be-a-bird-he
 ro-at-home-2026-04-07
LOCATION:On the grounds of the Surrey Aquatic and Community Centre
DTSTART;TZID=America/New_York:20260407T134925
DTEND;TZID=America/New_York:20260830T134932
END:VEVENT
END:VCALENDAR
