BEGIN:VCALENDAR
VERSION:2.0
PRODID:-//Sabre//Sabre VObject 4.5.1//EN
CALSCALE:GREGORIAN
BEGIN:VEVENT
UID:sabre-vobject-50cd320c-e7d6-42ea-b70d-12c581abc3c3
DTSTAMP:20260422T171514Z
SUMMARY:Mission ami des plumes : Votre guide pour être un héros des oisea
 ux à la maison
DESCRIPTION:Exposition gratuite présentée en collaboration avec le Comit
 é sur les oiseaux de Dorval\n\nLien de lʼévénement: https://www.ville.
 dorval.qc.ca/fr/evenements/arts-et-culture/mission-ami-des-plumes-votre-gu
 ide-pour-etre-un-heros-des-oiseaux-a-la-maison-2026-04-07
LOCATION:Sur les terrains du centre aquatique et communautaire Surrey
DTSTART;TZID=America/New_York:20260407T134925
DTEND;TZID=America/New_York:20260830T134932
END:VEVENT
END:VCALENDAR
