BEGIN:VCALENDAR
VERSION:2.0
PRODID:-//Sabre//Sabre VObject 4.5.1//EN
CALSCALE:GREGORIAN
BEGIN:VEVENT
UID:sabre-vobject-b62cf84b-0398-4555-aa5b-bf39bba943cf
DTSTAMP:20260422T220756Z
SUMMARY:2025 Dorval in One Click!
DESCRIPTION:\n\nLien de lʼévénement: https://www.ville.dorval.qc.ca/en/e
 vents/arts-and-culture/2025-dorval-in-one-click
LOCATION:At the Peace Park Arboretum
DTSTART;TZID=America/New_York:20260407T140658
DTEND;TZID=America/New_York:20260830T140705
END:VEVENT
END:VCALENDAR
