BEGIN:VCALENDAR
VERSION:2.0
PRODID:-//Sabre//Sabre VObject 4.5.1//EN
CALSCALE:GREGORIAN
BEGIN:VEVENT
UID:sabre-vobject-471a8526-0288-4179-b90f-bbf5042d33a6
DTSTAMP:20260422T155955Z
SUMMARY:Dorval en un clic! 2025
DESCRIPTION:\n\nLien de lʼévénement: https://www.ville.dorval.qc.ca/fr/e
 venements/arts-et-culture/dorval-en-un-clic-2025
LOCATION:Arboretum du parc de la Paix
DTSTART;TZID=America/New_York:20260407T140658
DTEND;TZID=America/New_York:20260830T140705
END:VEVENT
END:VCALENDAR
