BEGIN:VCALENDAR
VERSION:2.0
PRODID:-//Sabre//Sabre VObject 4.5.1//EN
CALSCALE:GREGORIAN
BEGIN:VEVENT
UID:sabre-vobject-367ea86a-ca02-4a3a-b146-92002a19c516
DTSTAMP:20260422T220843Z
SUMMARY:Garden Sculpture Exhibition
DESCRIPTION:Presented by the Dorval Potters’ Guild\n\nLien de lʼévénem
 ent: https://www.ville.dorval.qc.ca/en/events/arts-and-culture/garden-scul
 pture-exhibition
LOCATION:Place Heather Allard
DTSTART;TZID=America/New_York:20260430T141232
DTEND;TZID=America/New_York:20260531T141237
END:VEVENT
END:VCALENDAR
