BEGIN:VCALENDAR
VERSION:2.0
PRODID:-//Sabre//Sabre VObject 4.5.1//EN
CALSCALE:GREGORIAN
BEGIN:VEVENT
UID:sabre-vobject-87c32430-41b9-4de5-90fb-622c4f60e357
DTSTAMP:20260422T182525Z
SUMMARY:Exposition de sculptures de jardin
DESCRIPTION:Présentée par la Guilde des potiers de Dorval\n\nLien de lʼ
 événement: https://www.ville.dorval.qc.ca/fr/evenements/arts-et-culture/
 exposition-de-sculptures-de-jardin
LOCATION:À la place Heather Allard
DTSTART;TZID=America/New_York:20260430T141232
DTEND;TZID=America/New_York:20260531T141237
END:VEVENT
END:VCALENDAR
