BEGIN:VCALENDAR
VERSION:2.0
PRODID:-//Sabre//Sabre VObject 4.5.1//EN
CALSCALE:GREGORIAN
BEGIN:VEVENT
UID:sabre-vobject-32d3a598-25ba-48a0-b700-2f31f0196d7e
DTSTAMP:20260422T204437Z
SUMMARY:Les Goûts réunis | Divertissimo Series (At 11 a.m.)
DESCRIPTION:Relax and indulge in live music\, coffee\, and croissants!\n\nL
 ien de lʼévénement: https://www.ville.dorval.qc.ca/en/events/arts-and-c
 ulture/les-gouts-reunis-divertissimo-series
LOCATION:At the Peter B. Yeomans Cultural Centre
DTSTART;TZID=America/New_York:20260531T110000
DTEND;TZID=America/New_York:20260531T120000
END:VEVENT
END:VCALENDAR
