BEGIN:VCALENDAR
VERSION:2.0
PRODID:-//Sabre//Sabre VObject 4.5.1//EN
CALSCALE:GREGORIAN
BEGIN:VEVENT
UID:sabre-vobject-381488f3-57c3-4429-a288-6e0be2cd477f
DTSTAMP:20260422T193744Z
SUMMARY:Les Goûts réunis | Série Divertissimo (À 11 h)
DESCRIPTION:Place à la détente et à la douceur avec des concerts\, du ca
 fé et des croissants!\n\nLien de lʼévénement: https://www.ville.dorval
 .qc.ca/fr/evenements/arts-et-culture/les-gouts-reunis-serie-divertissimo
LOCATION:Au centre culturel Peter B. Yeomans
DTSTART;TZID=America/New_York:20260531T110000
DTEND;TZID=America/New_York:20260531T120000
END:VEVENT
END:VCALENDAR
